BEGIN:VCALENDAR
VERSION:2.0
PRODID:-//Pilot Point Coffee House - ECPv6.15.20//NONSGML v1.0//EN
CALSCALE:GREGORIAN
METHOD:PUBLISH
X-WR-CALNAME:Pilot Point Coffee House
X-ORIGINAL-URL:https://pilotpointcoffeehouse.com
X-WR-CALDESC:Events for Pilot Point Coffee House
REFRESH-INTERVAL;VALUE=DURATION:PT1H
X-Robots-Tag:noindex
X-PUBLISHED-TTL:PT1H
BEGIN:VTIMEZONE
TZID:America/New_York
BEGIN:DAYLIGHT
TZOFFSETFROM:-0500
TZOFFSETTO:-0400
TZNAME:EDT
DTSTART:20240310T070000
END:DAYLIGHT
BEGIN:STANDARD
TZOFFSETFROM:-0400
TZOFFSETTO:-0500
TZNAME:EST
DTSTART:20241103T060000
END:STANDARD
BEGIN:DAYLIGHT
TZOFFSETFROM:-0500
TZOFFSETTO:-0400
TZNAME:EDT
DTSTART:20250309T070000
END:DAYLIGHT
BEGIN:STANDARD
TZOFFSETFROM:-0400
TZOFFSETTO:-0500
TZNAME:EST
DTSTART:20251102T060000
END:STANDARD
BEGIN:DAYLIGHT
TZOFFSETFROM:-0500
TZOFFSETTO:-0400
TZNAME:EDT
DTSTART:20260308T070000
END:DAYLIGHT
BEGIN:STANDARD
TZOFFSETFROM:-0400
TZOFFSETTO:-0500
TZNAME:EST
DTSTART:20261101T060000
END:STANDARD
END:VTIMEZONE
BEGIN:VEVENT
DTSTART;TZID=America/New_York:20250503T190000
DTEND;TZID=America/New_York:20250503T220000
DTSTAMP:20260420T000109
CREATED:20250420T234424Z
LAST-MODIFIED:20250424T193413Z
UID:1078-1746298800-1746309600@pilotpointcoffeehouse.com
SUMMARY:Karaoke Night - May 3\, 2025
DESCRIPTION:Grab your friends and strap on your singin’ boots cuz Saturdays are Karaoke Night at the Coffee House!\n\nNo cover charge • All Ages Full Wine Menu • Domestic & Craft Beers
URL:https://pilotpointcoffeehouse.com/event/karaoke-night-may-3/
LOCATION:Pilot Point Coffee House\, 110 W Main St\, Pilot Point\, TX\, 76258\, United States
CATEGORIES:Live Music
ATTACH;FMTTYPE=image/jpeg:https://pilotpointcoffeehouse.com/wp-content/uploads/2025/04/karaoke-night.jpg
ORGANIZER;CN="Jimerson Adkins":MAILTO:yum@pilotpointcoffeehouse.com
END:VEVENT
BEGIN:VEVENT
DTSTART;TZID=America/New_York:20250506T180000
DTEND;TZID=America/New_York:20250506T220000
DTSTAMP:20260420T000109
CREATED:20250502T153407Z
LAST-MODIFIED:20250502T153407Z
UID:1100-1746554400-1746568800@pilotpointcoffeehouse.com
SUMMARY:Sessions Night - May 6\, 2025
DESCRIPTION:Jam with other artists at this casual open-mic night in a warm and welcoming atmosphere. Perform a song\, read your poem\, or try out your standup bit! \nCoffee House Sessions is the perfect time to practice your talent in front of an audience.
URL:https://pilotpointcoffeehouse.com/event/sessions-night-may-6-2025/
LOCATION:Pilot Point Coffee House\, 110 W Main St\, Pilot Point\, TX\, 76258\, United States
CATEGORIES:Live Music
ATTACH;FMTTYPE=image/jpeg:https://pilotpointcoffeehouse.com/wp-content/uploads/2025/03/Coffee-House-Sessions.jpg
ORGANIZER;CN="Jimerson Adkins":MAILTO:yum@pilotpointcoffeehouse.com
END:VEVENT
BEGIN:VEVENT
DTSTART;TZID=America/New_York:20250509T190000
DTEND;TZID=America/New_York:20250509T220000
DTSTAMP:20260420T000109
CREATED:20250424T054203Z
LAST-MODIFIED:20250424T193308Z
UID:1085-1746817200-1746828000@pilotpointcoffeehouse.com
SUMMARY:Live Music: Don Hankinson
DESCRIPTION:We are excited to welcome Don David Hankinson to the Coffee House stage!\n\nYou may recognize Don from his performances with Walton Munroe\, Jam & Java\, various events on the Pilot Point Square\, and as the host of Tuesday Session’s night. This time\, Don takes center stage to entertain and delight.\n\nNo cover charge • All Ages Full Wine Menu • Domestic & Craft Beers Kitchen Open Late
URL:https://pilotpointcoffeehouse.com/event/live-music-don-hankinson/
LOCATION:Pilot Point Coffee House\, 110 W Main St\, Pilot Point\, TX\, 76258\, United States
CATEGORIES:Live Music
ATTACH;FMTTYPE=image/jpeg:https://pilotpointcoffeehouse.com/wp-content/uploads/2025/04/Don-Hankinson-FB-Event.jpg
ORGANIZER;CN="Jimerson Adkins":MAILTO:yum@pilotpointcoffeehouse.com
END:VEVENT
BEGIN:VEVENT
DTSTART;TZID=America/New_York:20250510T190000
DTEND;TZID=America/New_York:20250510T220000
DTSTAMP:20260420T000109
CREATED:20250502T153734Z
LAST-MODIFIED:20250502T153734Z
UID:1102-1746903600-1746914400@pilotpointcoffeehouse.com
SUMMARY:Karaoke Night - May 10\, 2025
DESCRIPTION:Grab your friends and strap on your singin’ boots cuz Saturdays are Karaoke Night at the Coffee House!\n\nNo cover charge • All Ages Full Wine Menu • Domestic & Craft Beers
URL:https://pilotpointcoffeehouse.com/event/karaoke-night-may-10-2025/
LOCATION:Pilot Point Coffee House\, 110 W Main St\, Pilot Point\, TX\, 76258\, United States
CATEGORIES:Live Music
ATTACH;FMTTYPE=image/jpeg:https://pilotpointcoffeehouse.com/wp-content/uploads/2025/04/karaoke-night.jpg
ORGANIZER;CN="Jimerson Adkins":MAILTO:yum@pilotpointcoffeehouse.com
END:VEVENT
BEGIN:VEVENT
DTSTART;TZID=America/New_York:20250513T180000
DTEND;TZID=America/New_York:20250513T220000
DTSTAMP:20260420T000109
CREATED:20250502T154426Z
LAST-MODIFIED:20250502T154426Z
UID:1104-1747159200-1747173600@pilotpointcoffeehouse.com
SUMMARY:Sessions Night - May 13\, 2025
DESCRIPTION:Jam with other artists at this casual open-mic night in a warm and welcoming atmosphere. Perform a song\, read your poem\, or try out your standup bit! \nCoffee House Sessions is the perfect time to practice your talent in front of an audience.
URL:https://pilotpointcoffeehouse.com/event/sessions-night-may-13-2025/
LOCATION:Pilot Point Coffee House\, 110 W Main St\, Pilot Point\, TX\, 76258\, United States
CATEGORIES:Live Music
ATTACH;FMTTYPE=image/jpeg:https://pilotpointcoffeehouse.com/wp-content/uploads/2025/03/Coffee-House-Sessions.jpg
ORGANIZER;CN="Jimerson Adkins":MAILTO:yum@pilotpointcoffeehouse.com
END:VEVENT
BEGIN:VEVENT
DTSTART;TZID=America/New_York:20250516T190000
DTEND;TZID=America/New_York:20250516T210000
DTSTAMP:20260420T000109
CREATED:20250502T160111Z
LAST-MODIFIED:20250502T160111Z
UID:1111-1747422000-1747429200@pilotpointcoffeehouse.com
SUMMARY:Lily Alter - May 16\, 2025
DESCRIPTION:Join us for another unforgettable evening of jazz with the incredibly talented Lily Alter. A gifted vocalist and pianist\, Lily is not only a rising star in the jazz world but also a dedicated graduate student at the University of North Texas\, where she is honing her craft and expanding her musical horizons.\nLily’s performances are a mesmerizing blend of classic jazz standards and contemporary compositions\, all delivered with a unique and captivating style. Her soulful voice and virtuosic piano skills have earned her accolades from both peers and critics alike.\nDon’t miss this chance to experience Lily Alter’s enchanting music in an intimate setting. Whether you’re a longtime jazz enthusiast or new to the genre\, Lily’s performance promises to be a highlight of your musical year. Join us for an evening of smooth melodies\, intricate harmonies\, and the magic of live jazz.\nNo cover charge • All AgesFull Wine Menu • Domestic & Craft BeersKitchen Open Late • PilotPointCoffeeHouse.com
URL:https://pilotpointcoffeehouse.com/event/lily-alter-may-16-2025/
LOCATION:Pilot Point Coffee House\, 110 W Main St\, Pilot Point\, TX\, 76258\, United States
CATEGORIES:Live Music
ATTACH;FMTTYPE=image/jpeg:https://pilotpointcoffeehouse.com/wp-content/uploads/2025/05/Lily-Alter-5-16-FB-Cover.jpg
ORGANIZER;CN="Jimerson Adkins":MAILTO:yum@pilotpointcoffeehouse.com
END:VEVENT
BEGIN:VEVENT
DTSTART;TZID=America/New_York:20250520T180000
DTEND;TZID=America/New_York:20250520T220000
DTSTAMP:20260420T000109
CREATED:20250502T154844Z
LAST-MODIFIED:20250502T154854Z
UID:1106-1747764000-1747778400@pilotpointcoffeehouse.com
SUMMARY:Sessions Night - May 20\, 2025
DESCRIPTION:Jam with other artists at this casual open-mic night in a warm and welcoming atmosphere. Perform a song\, read your poem\, or try out your standup bit! \nCoffee House Sessions is the perfect time to practice your talent in front of an audience.
URL:https://pilotpointcoffeehouse.com/event/sessions-night-may-20-2025/
LOCATION:Pilot Point Coffee House\, 110 W Main St\, Pilot Point\, TX\, 76258\, United States
CATEGORIES:Live Music
ATTACH;FMTTYPE=image/jpeg:https://pilotpointcoffeehouse.com/wp-content/uploads/2025/03/Coffee-House-Sessions.jpg
ORGANIZER;CN="Jimerson Adkins":MAILTO:yum@pilotpointcoffeehouse.com
END:VEVENT
BEGIN:VEVENT
DTSTART;TZID=America/New_York:20250524T190000
DTEND;TZID=America/New_York:20250524T220000
DTSTAMP:20260420T000109
CREATED:20250502T161802Z
LAST-MODIFIED:20250502T161847Z
UID:1124-1748113200-1748124000@pilotpointcoffeehouse.com
SUMMARY:Karaoke Night
DESCRIPTION:Grab your friends and strap on your singin’ boots cuz Saturdays are Karaoke Night at the Coffee House!\n\nNo cover charge • All Ages Full Wine Menu • Domestic & Craft Beers
URL:https://pilotpointcoffeehouse.com/event/clone-of-karaoke-night/
LOCATION:TX
CATEGORIES:Live Music
ATTACH;FMTTYPE=image/jpeg:https://pilotpointcoffeehouse.com/wp-content/uploads/2025/04/karaoke-night.jpg
END:VEVENT
BEGIN:VEVENT
DTSTART;TZID=America/New_York:20250527T180000
DTEND;TZID=America/New_York:20250527T220000
DTSTAMP:20260420T000109
CREATED:20250502T155002Z
LAST-MODIFIED:20250502T155002Z
UID:1109-1748368800-1748383200@pilotpointcoffeehouse.com
SUMMARY:Sessions Night - May 27\, 2025
DESCRIPTION:Jam with other artists at this casual open-mic night in a warm and welcoming atmosphere. Perform a song\, read your poem\, or try out your standup bit! \nCoffee House Sessions is the perfect time to practice your talent in front of an audience.
URL:https://pilotpointcoffeehouse.com/event/sessions-night-may-27-2025/
LOCATION:Pilot Point Coffee House\, 110 W Main St\, Pilot Point\, TX\, 76258\, United States
CATEGORIES:Live Music
ATTACH;FMTTYPE=image/jpeg:https://pilotpointcoffeehouse.com/wp-content/uploads/2025/03/Coffee-House-Sessions.jpg
ORGANIZER;CN="Jimerson Adkins":MAILTO:yum@pilotpointcoffeehouse.com
END:VEVENT
BEGIN:VEVENT
DTSTART;TZID=America/New_York:20250530T190000
DTEND;TZID=America/New_York:20250530T220000
DTSTAMP:20260420T000109
CREATED:20250502T162714Z
LAST-MODIFIED:20250502T162714Z
UID:1127-1748631600-1748642400@pilotpointcoffeehouse.com
SUMMARY:Variety Show
DESCRIPTION:Live & Local Variety Show!\nJoin us for a night of talent\, creativity\, and unexpected delights at The Pilot Point Coffee House Variety Show! From live music to stand-up comedy\, poetry\, magic\, and everything in between\, this is an evening where anything can happen and everyone is welcome!\nGrab your seats early!\n\nNo cover charge • All Ages • Full Wine Menu • Domestic & Craft Beers
URL:https://pilotpointcoffeehouse.com/event/variety-show/
LOCATION:Pilot Point Coffee House\, 110 W Main St\, Pilot Point\, TX\, 76258\, United States
CATEGORIES:Live Music
ATTACH;FMTTYPE=image/jpeg:https://pilotpointcoffeehouse.com/wp-content/uploads/2025/05/Variety-Show-Cover-5-30_.jpg
ORGANIZER;CN="Jimerson Adkins":MAILTO:yum@pilotpointcoffeehouse.com
END:VEVENT
BEGIN:VEVENT
DTSTART;TZID=America/New_York:20250531T190000
DTEND;TZID=America/New_York:20250531T220000
DTSTAMP:20260420T000109
CREATED:20250527T014407Z
LAST-MODIFIED:20250527T014407Z
UID:1133-1748718000-1748728800@pilotpointcoffeehouse.com
SUMMARY:Karaoke Night
DESCRIPTION:Grab your friends and strap on your singin’ boots cuz Saturdays are Karaoke Night at the Coffee House!\n\nNo cover charge • All Ages Full Wine Menu • Domestic & Craft Beers
URL:https://pilotpointcoffeehouse.com/event/karaoke-night-may-30/
LOCATION:TX
CATEGORIES:Live Music
ATTACH;FMTTYPE=image/jpeg:https://pilotpointcoffeehouse.com/wp-content/uploads/2025/04/karaoke-night.jpg
END:VEVENT
END:VCALENDAR