BEGIN:VCALENDAR
VERSION:2.0
PRODID:-//Pilot Point Coffee House - ECPv6.15.20//NONSGML v1.0//EN
CALSCALE:GREGORIAN
METHOD:PUBLISH
X-WR-CALNAME:Pilot Point Coffee House
X-ORIGINAL-URL:https://pilotpointcoffeehouse.com
X-WR-CALDESC:Events for Pilot Point Coffee House
REFRESH-INTERVAL;VALUE=DURATION:PT1H
X-Robots-Tag:noindex
X-PUBLISHED-TTL:PT1H
BEGIN:VTIMEZONE
TZID:America/New_York
BEGIN:DAYLIGHT
TZOFFSETFROM:-0500
TZOFFSETTO:-0400
TZNAME:EDT
DTSTART:20240310T070000
END:DAYLIGHT
BEGIN:STANDARD
TZOFFSETFROM:-0400
TZOFFSETTO:-0500
TZNAME:EST
DTSTART:20241103T060000
END:STANDARD
BEGIN:DAYLIGHT
TZOFFSETFROM:-0500
TZOFFSETTO:-0400
TZNAME:EDT
DTSTART:20250309T070000
END:DAYLIGHT
BEGIN:STANDARD
TZOFFSETFROM:-0400
TZOFFSETTO:-0500
TZNAME:EST
DTSTART:20251102T060000
END:STANDARD
BEGIN:DAYLIGHT
TZOFFSETFROM:-0500
TZOFFSETTO:-0400
TZNAME:EDT
DTSTART:20260308T070000
END:DAYLIGHT
BEGIN:STANDARD
TZOFFSETFROM:-0400
TZOFFSETTO:-0500
TZNAME:EST
DTSTART:20261101T060000
END:STANDARD
END:VTIMEZONE
BEGIN:VEVENT
DTSTART;TZID=America/New_York:20250902T180000
DTEND;TZID=America/New_York:20250902T220000
DTSTAMP:20260419T162656
CREATED:20250824T170259Z
LAST-MODIFIED:20250824T170259Z
UID:1356-1756836000-1756850400@pilotpointcoffeehouse.com
SUMMARY:Sessions Night - September 2\, 2025
DESCRIPTION:Jam with other artists at this casual open-mic night in a warm and welcoming atmosphere. Perform a song\, read your poem\, or try out your standup bit! \nCoffee House Sessions is the perfect time to practice your talent in front of an audience.
URL:https://pilotpointcoffeehouse.com/event/sessions-night-september-2-2025/
LOCATION:Pilot Point Coffee House\, 110 W Main St\, Pilot Point\, TX\, 76258\, United States
CATEGORIES:Live Music
ATTACH;FMTTYPE=image/jpeg:https://pilotpointcoffeehouse.com/wp-content/uploads/2025/03/Coffee-House-Sessions.jpg
ORGANIZER;CN="Jimerson Adkins":MAILTO:yum@pilotpointcoffeehouse.com
END:VEVENT
BEGIN:VEVENT
DTSTART;TZID=America/New_York:20250905T190000
DTEND;TZID=America/New_York:20250905T210000
DTSTAMP:20260419T162656
CREATED:20250727T180141Z
LAST-MODIFIED:20250727T180141Z
UID:1300-1757098800-1757106000@pilotpointcoffeehouse.com
SUMMARY:Live Music: Luke Bielfeldt Quartet
DESCRIPTION:We welcome the Luke Bielfeldt Quartet back to the Coffee House stage! \nHeaded by singer Luke Bielfeldt\, the Denton-based ensemble plays a variety of standards and new material\, with genres ranging from the sultry styles of Miles Davis\, to funk and soul grooves of the 1970’s\, to the lively jazz of today. \nNo cover charge • All Ages\nFull Wine Menu • Domestic & Craft Beers\nKitchen Open Late • PilotPointCoffeeHouse.com
URL:https://pilotpointcoffeehouse.com/event/live-music-luke-bielfeldt-quartet/
LOCATION:Pilot Point Coffee House\, 110 W Main St\, Pilot Point\, TX\, 76258\, United States
CATEGORIES:Live Music
ATTACH;FMTTYPE=image/jpeg:https://pilotpointcoffeehouse.com/wp-content/uploads/2025/07/Luke-Bielfeldt-FB-Event.jpg
ORGANIZER;CN="Jimerson Adkins":MAILTO:yum@pilotpointcoffeehouse.com
END:VEVENT
BEGIN:VEVENT
DTSTART;TZID=America/New_York:20250906T190000
DTEND;TZID=America/New_York:20250906T220000
DTSTAMP:20260419T162656
CREATED:20250824T170829Z
LAST-MODIFIED:20250824T170829Z
UID:1370-1757185200-1757196000@pilotpointcoffeehouse.com
SUMMARY:Karaoke Night - September 6\, 2025
DESCRIPTION:Grab your friends and strap on your singin’ boots cuz Saturdays are Karaoke Night at the Coffee House!\n\nNo cover charge • All Ages Full Wine Menu • Domestic & Craft Beers
URL:https://pilotpointcoffeehouse.com/event/karaoke-night-september-6-2025/
LOCATION:Pilot Point Coffee House\, 110 W Main St\, Pilot Point\, TX\, 76258\, United States
CATEGORIES:Live Music
ATTACH;FMTTYPE=image/jpeg:https://pilotpointcoffeehouse.com/wp-content/uploads/2025/04/karaoke-night.jpg
ORGANIZER;CN="Jimerson Adkins":MAILTO:yum@pilotpointcoffeehouse.com
END:VEVENT
BEGIN:VEVENT
DTSTART;TZID=America/New_York:20250912T190000
DTEND;TZID=America/New_York:20250912T220000
DTSTAMP:20260419T162656
CREATED:20250817T214925Z
LAST-MODIFIED:20250817T214925Z
UID:1338-1757703600-1757714400@pilotpointcoffeehouse.com
SUMMARY:Live Music: Don Hankinson
DESCRIPTION:We are excited to welcome Don David Hankinson to the Coffee House stage!\n\nYou may recognize Don from his performances with Walton Munroe\, Jam & Java\, various events on the Pilot Point Square\, and as the host of Tuesday Session’s night. This time\, Don takes center stage to entertain and delight.\n\nNo cover charge • All Ages Full Wine Menu • Domestic & Craft Beers Kitchen Open Late
URL:https://pilotpointcoffeehouse.com/event/live-music-don-hankinson-2/
LOCATION:Pilot Point Coffee House\, 110 W Main St\, Pilot Point\, TX\, 76258\, United States
CATEGORIES:Live Music
ATTACH;FMTTYPE=image/jpeg:https://pilotpointcoffeehouse.com/wp-content/uploads/2025/08/Don-Hankinson-FB-Event-8-17.jpg
ORGANIZER;CN="Jimerson Adkins":MAILTO:yum@pilotpointcoffeehouse.com
END:VEVENT
BEGIN:VEVENT
DTSTART;TZID=America/New_York:20250913T190000
DTEND;TZID=America/New_York:20250913T220000
DTSTAMP:20260419T162656
CREATED:20250824T170900Z
LAST-MODIFIED:20250824T170900Z
UID:1372-1757790000-1757800800@pilotpointcoffeehouse.com
SUMMARY:Karaoke Night - September 13\, 2025
DESCRIPTION:Grab your friends and strap on your singin’ boots cuz Saturdays are Karaoke Night at the Coffee House!\n\nNo cover charge • All Ages Full Wine Menu • Domestic & Craft Beers
URL:https://pilotpointcoffeehouse.com/event/karaoke-night-september-13-2025/
LOCATION:Pilot Point Coffee House\, 110 W Main St\, Pilot Point\, TX\, 76258\, United States
CATEGORIES:Live Music
ATTACH;FMTTYPE=image/jpeg:https://pilotpointcoffeehouse.com/wp-content/uploads/2025/04/karaoke-night.jpg
ORGANIZER;CN="Jimerson Adkins":MAILTO:yum@pilotpointcoffeehouse.com
END:VEVENT
BEGIN:VEVENT
DTSTART;TZID=America/New_York:20250919T190000
DTEND;TZID=America/New_York:20250919T210000
DTSTAMP:20260419T162656
CREATED:20250817T214700Z
LAST-MODIFIED:20250817T214700Z
UID:1334-1758308400-1758315600@pilotpointcoffeehouse.com
SUMMARY:Live Music: Renegade Country Duo
DESCRIPTION:We’re ready to bring some honky-tonkin’ to the Coffee House Stage! \nThe Renegade Country Band plays the upbeat Country Music in North Texas and Southern Oklahoma! Come get ready to get your two steppin’ on with us on Sept. 19! \nNo cover charge • All Ages\nFull Wine Menu • Domestic & Craft Beers\nKitchen Open Late • PilotPointCoffeeHouse.com
URL:https://pilotpointcoffeehouse.com/event/live-music-renegade-country-duo/
LOCATION:Pilot Point Coffee House\, 110 W Main St\, Pilot Point\, TX\, 76258\, United States
CATEGORIES:Live Music
ATTACH;FMTTYPE=image/jpeg:https://pilotpointcoffeehouse.com/wp-content/uploads/2025/08/Renegade-Country-FB-Event.jpg
ORGANIZER;CN="Jimerson Adkins":MAILTO:yum@pilotpointcoffeehouse.com
END:VEVENT
BEGIN:VEVENT
DTSTART;TZID=America/New_York:20250920T190000
DTEND;TZID=America/New_York:20250920T220000
DTSTAMP:20260419T162656
CREATED:20250824T170940Z
LAST-MODIFIED:20250824T170940Z
UID:1374-1758394800-1758405600@pilotpointcoffeehouse.com
SUMMARY:Karaoke Night - September 20\, 2025
DESCRIPTION:Grab your friends and strap on your singin’ boots cuz Saturdays are Karaoke Night at the Coffee House!\n\nNo cover charge • All Ages Full Wine Menu • Domestic & Craft Beers
URL:https://pilotpointcoffeehouse.com/event/karaoke-night-september-20-2025/
LOCATION:Pilot Point Coffee House\, 110 W Main St\, Pilot Point\, TX\, 76258\, United States
CATEGORIES:Live Music
ATTACH;FMTTYPE=image/jpeg:https://pilotpointcoffeehouse.com/wp-content/uploads/2025/04/karaoke-night.jpg
ORGANIZER;CN="Jimerson Adkins":MAILTO:yum@pilotpointcoffeehouse.com
END:VEVENT
END:VCALENDAR