BEGIN:VCALENDAR
VERSION:2.0
PRODID:-//Pilot Point Coffee House - ECPv6.15.20//NONSGML v1.0//EN
CALSCALE:GREGORIAN
METHOD:PUBLISH
X-ORIGINAL-URL:https://pilotpointcoffeehouse.com
X-WR-CALDESC:Events for Pilot Point Coffee House
REFRESH-INTERVAL;VALUE=DURATION:PT1H
X-Robots-Tag:noindex
X-PUBLISHED-TTL:PT1H
BEGIN:VTIMEZONE
TZID:America/New_York
BEGIN:DAYLIGHT
TZOFFSETFROM:-0500
TZOFFSETTO:-0400
TZNAME:EDT
DTSTART:20240310T070000
END:DAYLIGHT
BEGIN:STANDARD
TZOFFSETFROM:-0400
TZOFFSETTO:-0500
TZNAME:EST
DTSTART:20241103T060000
END:STANDARD
BEGIN:DAYLIGHT
TZOFFSETFROM:-0500
TZOFFSETTO:-0400
TZNAME:EDT
DTSTART:20250309T070000
END:DAYLIGHT
BEGIN:STANDARD
TZOFFSETFROM:-0400
TZOFFSETTO:-0500
TZNAME:EST
DTSTART:20251102T060000
END:STANDARD
BEGIN:DAYLIGHT
TZOFFSETFROM:-0500
TZOFFSETTO:-0400
TZNAME:EDT
DTSTART:20260308T070000
END:DAYLIGHT
BEGIN:STANDARD
TZOFFSETFROM:-0400
TZOFFSETTO:-0500
TZNAME:EST
DTSTART:20261101T060000
END:STANDARD
END:VTIMEZONE
BEGIN:VEVENT
DTSTART;TZID=America/New_York:20250912T190000
DTEND;TZID=America/New_York:20250912T220000
DTSTAMP:20260419T182706
CREATED:20250817T214925Z
LAST-MODIFIED:20250817T214925Z
UID:1338-1757703600-1757714400@pilotpointcoffeehouse.com
SUMMARY:Live Music: Don Hankinson
DESCRIPTION:We are excited to welcome Don David Hankinson to the Coffee House stage!\n\nYou may recognize Don from his performances with Walton Munroe\, Jam & Java\, various events on the Pilot Point Square\, and as the host of Tuesday Session’s night. This time\, Don takes center stage to entertain and delight.\n\nNo cover charge • All Ages Full Wine Menu • Domestic & Craft Beers Kitchen Open Late
URL:https://pilotpointcoffeehouse.com/event/live-music-don-hankinson-2/
LOCATION:Pilot Point Coffee House\, 110 W Main St\, Pilot Point\, TX\, 76258\, United States
CATEGORIES:Live Music
ATTACH;FMTTYPE=image/jpeg:https://pilotpointcoffeehouse.com/wp-content/uploads/2025/08/Don-Hankinson-FB-Event-8-17.jpg
ORGANIZER;CN="Jimerson Adkins":MAILTO:yum@pilotpointcoffeehouse.com
END:VEVENT
END:VCALENDAR