BEGIN:VCALENDAR
VERSION:2.0
PRODID:-//Pilot Point Coffee House - ECPv6.15.20//NONSGML v1.0//EN
CALSCALE:GREGORIAN
METHOD:PUBLISH
X-WR-CALNAME:Pilot Point Coffee House
X-ORIGINAL-URL:https://pilotpointcoffeehouse.com
X-WR-CALDESC:Events for Pilot Point Coffee House
REFRESH-INTERVAL;VALUE=DURATION:PT1H
X-Robots-Tag:noindex
X-PUBLISHED-TTL:PT1H
BEGIN:VTIMEZONE
TZID:America/New_York
BEGIN:DAYLIGHT
TZOFFSETFROM:-0500
TZOFFSETTO:-0400
TZNAME:EDT
DTSTART:20240310T070000
END:DAYLIGHT
BEGIN:STANDARD
TZOFFSETFROM:-0400
TZOFFSETTO:-0500
TZNAME:EST
DTSTART:20241103T060000
END:STANDARD
BEGIN:DAYLIGHT
TZOFFSETFROM:-0500
TZOFFSETTO:-0400
TZNAME:EDT
DTSTART:20250309T070000
END:DAYLIGHT
BEGIN:STANDARD
TZOFFSETFROM:-0400
TZOFFSETTO:-0500
TZNAME:EST
DTSTART:20251102T060000
END:STANDARD
BEGIN:DAYLIGHT
TZOFFSETFROM:-0500
TZOFFSETTO:-0400
TZNAME:EDT
DTSTART:20260308T070000
END:DAYLIGHT
BEGIN:STANDARD
TZOFFSETFROM:-0400
TZOFFSETTO:-0500
TZNAME:EST
DTSTART:20261101T060000
END:STANDARD
END:VTIMEZONE
BEGIN:VEVENT
DTSTART;TZID=America/New_York:20251107T190000
DTEND;TZID=America/New_York:20251107T220000
DTSTAMP:20260419T145208
CREATED:20251013T172227Z
LAST-MODIFIED:20251013T172227Z
UID:1507-1762542000-1762552800@pilotpointcoffeehouse.com
SUMMARY:Live Music: Warren Floyd
DESCRIPTION:We are EXTREMELY excited to welcome Warren Floyd back to the Coffee House stage! \nWarren’s original songs grace us with a much needed reminder of the humanity and grandness of every day life. \nWarren has been featured on John McEuen’s Acoustic Traveller show\, XM Satellite Radio and Another Music Scene With Gene. \nHe performs rock and roll\, folk-rock and country covers from the ’50s\, ’60s\, ’70s\, ’80s and ’90s. \n“Warren is the Forrest Gump of Folk.” -Mare Lennon \nNo cover charge • All Ages\nFull Wine Menu • Domestic & Craft Beers\nKitchen Open Late
URL:https://pilotpointcoffeehouse.com/event/live-music-warren-floyd/
LOCATION:Pilot Point Coffee House\, 110 W Main St\, Pilot Point\, TX\, 76258\, United States
CATEGORIES:Live Music
ATTACH;FMTTYPE=image/jpeg:https://pilotpointcoffeehouse.com/wp-content/uploads/2025/10/Warren-Floyd-FB-Event.jpg
ORGANIZER;CN="Jimerson Adkins":MAILTO:yum@pilotpointcoffeehouse.com
END:VEVENT
END:VCALENDAR