BEGIN:VCALENDAR
VERSION:2.0
PRODID:-//Pilot Point Coffee House - ECPv6.15.20//NONSGML v1.0//EN
CALSCALE:GREGORIAN
METHOD:PUBLISH
X-ORIGINAL-URL:https://pilotpointcoffeehouse.com
X-WR-CALDESC:Events for Pilot Point Coffee House
REFRESH-INTERVAL;VALUE=DURATION:PT1H
X-Robots-Tag:noindex
X-PUBLISHED-TTL:PT1H
BEGIN:VTIMEZONE
TZID:America/New_York
BEGIN:DAYLIGHT
TZOFFSETFROM:-0500
TZOFFSETTO:-0400
TZNAME:EDT
DTSTART:20250309T070000
END:DAYLIGHT
BEGIN:STANDARD
TZOFFSETFROM:-0400
TZOFFSETTO:-0500
TZNAME:EST
DTSTART:20251102T060000
END:STANDARD
BEGIN:DAYLIGHT
TZOFFSETFROM:-0500
TZOFFSETTO:-0400
TZNAME:EDT
DTSTART:20260308T070000
END:DAYLIGHT
BEGIN:STANDARD
TZOFFSETFROM:-0400
TZOFFSETTO:-0500
TZNAME:EST
DTSTART:20261101T060000
END:STANDARD
BEGIN:DAYLIGHT
TZOFFSETFROM:-0500
TZOFFSETTO:-0400
TZNAME:EDT
DTSTART:20270314T070000
END:DAYLIGHT
BEGIN:STANDARD
TZOFFSETFROM:-0400
TZOFFSETTO:-0500
TZNAME:EST
DTSTART:20271107T060000
END:STANDARD
END:VTIMEZONE
BEGIN:VEVENT
DTSTART;TZID=America/New_York:20260206T190000
DTEND;TZID=America/New_York:20260206T210000
DTSTAMP:20260419T092101
CREATED:20260121T010328Z
LAST-MODIFIED:20260121T010328Z
UID:1748-1770404400-1770411600@pilotpointcoffeehouse.com
SUMMARY:Live Music: Luke Bielfeldt Quartet
DESCRIPTION:We welcome the Luke Bielfeldt Quartet back to the Coffee House stage! \nHeaded by singer Luke Bielfeldt\, the Denton-based ensemble plays a variety of standards and new material\, with genres ranging from the sultry styles of Miles Davis\, to funk and soul grooves of the 1970’s\, to the lively jazz of today. \nNo cover charge • All Ages\nFull Wine Menu • Domestic & Craft Beers\nKitchen Open Late • PilotPointCoffeeHouse.com
URL:https://pilotpointcoffeehouse.com/event/live-music-luke-bielfeldt-quartet-feb-2026/
LOCATION:Pilot Point Coffee House\, 110 W Main St\, Pilot Point\, TX\, 76258\, United States
CATEGORIES:Live Music
ATTACH;FMTTYPE=image/jpeg:https://pilotpointcoffeehouse.com/wp-content/uploads/2026/01/Luke-Bielfeldt-FB-Event.jpg
ORGANIZER;CN="Jimerson Adkins":MAILTO:yum@pilotpointcoffeehouse.com
END:VEVENT
END:VCALENDAR